{
 "extent": {
  "ymin": 36.509999999999998,
  "xmin": -83.679999999999993,
  "ymax": 39.469999999999999,
  "xmax": -75.239999999999995,
  "spatialReference": {
   "latestWkid": 4326,
   "wkid": 4326
  }
 },
 "blockWidth": 128,
 "mosaicOperator": "First",
 "serviceSourceType": "esriImageServiceSourceTypeDataset",
 "hasMultidimensions": false,
 "maxImageWidth": 15000,
 "meanValues": [
  4.2929242352137464
 ],
 "hasColormap": false,
 "compressionType": "NONE",
 "defaultCompressionQuality": 75,
 "maxValues": [
  4.6080002999999996
 ],
 "hasHistograms": true,
 "datasetFormat": "FGDBR",
 "maxImageHeight": 4100,
 "sortField": "",
 "bandNames": [
  "Band_1"
 ],
 "spatialReference": {
  "latestWkid": 4326,
  "wkid": 4326
 },
 "fullExtent": {
  "ymin": 36.509999999999998,
  "xmin": -83.679999999999993,
  "ymax": 39.469999999999999,
  "xmax": -75.239999999999995,
  "spatialReference": {
   "latestWkid": 4326,
   "wkid": 4326
  }
 },
 "bandCount": 1,
 "rasterFunctionInfos": [
  {
   "help": "",
   "name": "None",
   "description": ""
  }
 ],
 "supportsStatistics": false,
 "sortableFields": "",
 "minValues": [
  3.9359999999999999
 ],
 "allowRasterFunction": true,
 "allowComputeTiePoints": false,
 "serviceDataType": "esriImageServiceDataTypeGeneric",
 "supportsAdvancedQueries": false,
 "currentVersion": 12.1,
 "sortValue": null,
 "objectIdField": "",
 "blockHeight": 128,
 "initialExtent": {
  "ymin": 36.509999999999998,
  "xmin": -83.679999999999993,
  "ymax": 39.469999999999999,
  "xmax": -75.239999999999995,
  "spatialReference": {
   "latestWkid": 4326,
   "wkid": 4326
  }
 },
 "pixelSizeX": 0.039999999999999987,
 "pixelSizeY": 0.040000000000000015,
 "defaultMosaicMethod": "Center",
 "name": "public/HorizontalIrradiance_NREL",
 "allowedMosaicMethods": "",
 "fields": [],
 "allowAnalysis": true,
 "hasRasterAttributeTable": false,
 "useStandardizedQueries": false,
 "description": "Title: Physical Solar Model version 3 Global Horizontal Irradiance Multi-year Annual Average\n\nPublisher: National Renewable Energy Laboratory, Golden, Colorado\nPublication date: 2018\n\nContact: nsrdb@nrel.gov\nhttps://nsrdb.nrel.gov\n\nFormat: raster\nProjection: unprojected\nCoordinate System: WGS84, EPSG: 4326\nRaster value: solar irradiance in kWh/m2/year\n\nDescription: This data provides annual average daily total solar resource averaged over surface cells of 0.038 degrees in both latitude and longitude, or nominally 4 km in size. The solar radiation values represent the resource available to solar energy systems. The data was created using cloud properties which are generated using the AVHRR Pathfinder Atmospheres-Extended (PATMOS-x) algorithms. Fast all-sky radiation model for solar applications (FARMS) in conjunction with the cloud properties, and aerosol optical depth (AOD) and precipitable water vapor (PWV) from ancillary source are used to estimate direct normal irradiance (DNI) and global horizontal irradiance (GHI). The DNI and GHI are computed for clear skies using the REST2 model. For cloud scenes identified by the cloud mask, the FARMS is used to compute the GHI. The DNI for cloud scenes is then computed using the DISC model. The data are averaged from hourly model output over 19 years (1998-2016). The PATMOS-X model uses half-hourly radiance images in visible and infrared channels from the GOES series of geostationary weather satellites, daily snow cover data from the NSIDC and mixing ratio, temperature and pressure profiles from the Modern Era-Retrospective Analysis (MERRA-2) dataset. The REST2 model uses hourly aerosol optical depth from MERRA-2 to calculate GHI and DNI; water vapor and other inputs for REST 2 are obtained from the MERRA-2.\n\nThis dataset was derived from the NSRDB and may be used with the following citation:\n\nSengupta, M., Xie, Y., Lopez, A., Habte, A., Maclaurin, G., & Shelby, J. (2018). The national solar radiation data base (NSRDB). Renewable and Sustainable Energy Reviews, 89, 51-60.",
 "pixelType": "F64",
 "meanPixelSize": 4452.779631730943,
 "exportTilesAllowed": false,
 "editFieldsInfo": null,
 "rasterTypeInfos": [
  {
   "help": "",
   "name": "Raster Dataset",
   "description": "Supports all ArcGIS Raster Datasets"
  }
 ],
 "defaultResamplingMethod": "Bilinear",
 "itemAccess": false,
 "minScale": 0,
 "serviceProperties": "Center<\/MosaicMethod>First<\/MosaicOperator>true<\/SortAscending><\/LockImageID><\/TileOrderField>0<\/TileOrderBase>0.000000<\/AvgImageSpacingX>0.000000<\/AvgImageSpacingY>0.0<\/ViewPointX>0.0<\/ViewPointY>0.0<\/ViewPointDefShiftX>0.0<\/ViewPointDefShiftY>None<\/CompressionMethod>75<\/CompressionQuality>0.010000<\/CompressionTolerance>Bilinear<\/SamplingMethod><\/ImageServiceProperties><\/ImageServer>",
 "advancedQueryCapabilities": {
  "supportsStatistics": false,
  "supportsSqlExpression": false,
  "supportsOrderBy": false,
  "useStandardizedQueries": false,
  "supportsPagination": false,
  "supportsDistinct": false
 },
 "serviceItemId": "496c850b785945ab9af116d54f69f8dc",
 "capabilities": "Image,Metadata,Mensuration",
 "maxScale": 0,
 "stdvValues": [
  0.13950267436282485
 ],
 "allowedFields": "",
 "minPixelSize": 0,
 "sortAscending": true,
 "inspectionCapabilities": "",
 "maxPixelSize": 0,
 "allowedCompressions": "None,JPEG,LZ77,LERC",
 "uncompressedSize": 124912,
 "serviceDescription": "Title: Physical Solar Model version 3 Global Horizontal Irradiance Multi-year Annual Average\n\nPublisher: National Renewable Energy Laboratory, Golden, Colorado\nPublication date: 2018\n\nContact: nsrdb@nrel.gov\nhttps://nsrdb.nrel.gov\n\nFormat: raster\nProjection: unprojected\nCoordinate System: WGS84, EPSG: 4326\nRaster value: solar irradiance in kWh/m2/year\n\nDescription: This data provides annual average daily total solar resource averaged over surface cells of 0.038 degrees in both latitude and longitude, or nominally 4 km in size. The solar radiation values represent the resource available to solar energy systems. The data was created using cloud properties which are generated using the AVHRR Pathfinder Atmospheres-Extended (PATMOS-x) algorithms. Fast all-sky radiation model for solar applications (FARMS) in conjunction with the cloud properties, and aerosol optical depth (AOD) and precipitable water vapor (PWV) from ancillary source are used to estimate direct normal irradiance (DNI) and global horizontal irradiance (GHI). The DNI and GHI are computed for clear skies using the REST2 model. For cloud scenes identified by the cloud mask, the FARMS is used to compute the GHI. The DNI for cloud scenes is then computed using the DISC model. The data are averaged from hourly model output over 19 years (1998-2016). The PATMOS-X model uses half-hourly radiance images in visible and infrared channels from the GOES series of geostationary weather satellites, daily snow cover data from the NSIDC and mixing ratio, temperature and pressure profiles from the Modern Era-Retrospective Analysis (MERRA-2) dataset. The REST2 model uses hourly aerosol optical depth from MERRA-2 to calculate GHI and DNI; water vapor and other inputs for REST 2 are obtained from the MERRA-2.\n\nThis dataset was derived from the NSRDB and may be used with the following citation:\n\nSengupta, M., Xie, Y., Lopez, A., Habte, A., Maclaurin, G., & Shelby, J. (2018). The national solar radiation data base (NSRDB). Renewable and Sustainable Energy Reviews, 89, 51-60.",
 "allowCopy": true,
 "copyrightText": "NREL",
 "mensurationCapabilities": "Basic",
 "ownershipBasedAccessControlForRasters": null
}
